BEGIN:VCALENDAR
VERSION:2.0
PRODID:-//Rosaria Giastin e Cosimo - ECPv6.2.4//NONSGML v1.0//EN
CALSCALE:GREGORIAN
METHOD:PUBLISH
X-WR-CALNAME:Rosaria Giastin e Cosimo
X-ORIGINAL-URL:https://rosariagiastincosimo.com
X-WR-CALDESC:Eventi per Rosaria Giastin e Cosimo
REFRESH-INTERVAL;VALUE=DURATION:PT1H
X-Robots-Tag:noindex
X-PUBLISHED-TTL:PT1H
BEGIN:VTIMEZONE
TZID:Europe/Rome
BEGIN:DAYLIGHT
TZOFFSETFROM:+0100
TZOFFSETTO:+0200
TZNAME:CEST
DTSTART:20210328T010000
END:DAYLIGHT
BEGIN:STANDARD
TZOFFSETFROM:+0200
TZOFFSETTO:+0100
TZNAME:CET
DTSTART:20211031T010000
END:STANDARD
END:VTIMEZONE
BEGIN:VEVENT
DTSTART;TZID=Europe/Rome:20211015T200000
DTEND;TZID=Europe/Rome:20211015T220000
DTSTAMP:20260423T140104
CREATED:20211012T084112Z
LAST-MODIFIED:20211012T084402Z
UID:4948-1634328000-1634335200@rosariagiastincosimo.com
SUMMARY:Incontro Testimonianza Casagiove
DESCRIPTION:Giuseppe e Carolina saranno a Casagiove in provincia di Caserta il 15 ottobre 2021 presso la parrocchiale di Santa Maria della Vittoria. Anche stavolta racconteranno la loro meravigliosa esperienza di vita\, di amore\, di fede parlando dei loro tre figli: Rosaria Giastin e Cosimo. \nSCARICA LA LOCANDINA
URL:https://rosariagiastincosimo.com/eventi/incontro-testimonianza-casagiove/
LOCATION:Parrocchia Santa Maria della Vittoria – Casagiove (CE)\, Piazza Vittoria\, Casagiove\, Caserta\, 81022\, Italia
CATEGORIES:Fisico
ATTACH;FMTTYPE=image/jpeg:https://rosariagiastincosimo.com/wp-content/uploads/2021/10/casagiove.jpg
END:VEVENT
END:VCALENDAR